BEGIN:VCALENDAR
VERSION:2.0
PRODID:-//Squarespace Inc/Squarespace 6//v6//EN
BEGIN:VEVENT
UID:5e4f37210a77d85c6c4f7335@squarespace.com
DTSTAMP:20200221T015624Z
DTSTART:20200317T233000Z
DTEND:20200430T073000Z
SUMMARY:CBS Disability Arts Group: Fishbowl
END:VEVENT
END:VCALENDAR
