BEGIN:VCALENDAR
VERSION:2.0
PRODID:-//Squarespace Inc/Squarespace 6//v6//EN
BEGIN:VEVENT
UID:5e1bdda4a252892821e0d7da@squarespace.com
DTSTAMP:20200204T031328Z
DTSTART:20200206T233000Z
DTEND:20200315T063000Z
SUMMARY:Sculptures and Images
END:VEVENT
END:VCALENDAR
