BEGIN:VCALENDAR
VERSION:2.0
PRODID:-//Squarespace Inc/Squarespace 6//v6//EN
BEGIN:VEVENT
UID:5e0f0e263487422e21836cf0@squarespace.com
DTSTAMP:20200204T080751Z
DTSTART:20200206T233000Z
DTEND:20200315T063000Z
SUMMARY:travelling blind by India Flint  
END:VEVENT
END:VCALENDAR
