BEGIN:VCALENDAR
VERSION:2.0
PRODID:-//Squarespace Inc/Squarespace 6//v6//EN
BEGIN:VEVENT
UID:5caac27cbd162e000145f587@squarespace.com
DTSTAMP:20190904T074732Z
DTSTART:20190904T003000Z
DTEND:20190929T073000Z
SUMMARY:Pleased You See Me
END:VEVENT
END:VCALENDAR
