BEGIN:VCALENDAR
VERSION:2.0
PRODID:-//Squarespace Inc/Squarespace 6//v6//EN
BEGIN:VEVENT
UID:5cfdf5835b57fa0001a648bd@squarespace.com
DTSTAMP:20190826T045943Z
DTSTART:20190918T003000Z
DTEND:20191014T063000Z
SUMMARY:Ed Douglas:  On My Father's Drawing Board
END:VEVENT
END:VCALENDAR
