BEGIN:VCALENDAR
VERSION:2.0
PRODID:-//Squarespace Inc/Squarespace 6//v6//EN
BEGIN:VEVENT
UID:5c932a439b747a74ce7650de@squarespace.com
DTSTAMP:20190723T024103Z
DTSTART:20190808T003000Z
DTEND:20190915T123000Z
SUMMARY:James Dodd 'MOTION' - SALA exhibition 2019
END:VEVENT
END:VCALENDAR
