BEGIN:VCALENDAR
VERSION:2.0
PRODID:-//Squarespace Inc/Squarespace 6//v6//EN
BEGIN:VEVENT
UID:5ceb8c8c4e17b65333e0d8e6@squarespace.com
DTSTAMP:20190723T024120Z
DTSTART:20190808T003000Z
DTEND:20191006T063000Z
SUMMARY:Rachel Harris Was ist los Hahndorf! - SALA exhibition 2019
END:VEVENT
END:VCALENDAR
