BEGIN:VCALENDAR
VERSION:2.0
PRODID:-//Squarespace Inc/Squarespace 6//v6//EN
BEGIN:VEVENT
UID:5bcd5b61ec212dd10f28b175@squarespace.com
DTSTAMP:20190619T050720Z
DTSTART:20190510T003000Z
DTEND:20190630T073000Z
SUMMARY:Kunyi June Anne McInerney: My Paintings Speak For Me
END:VEVENT
END:VCALENDAR
