BEGIN:VCALENDAR
VERSION:2.0
PRODID:-//Squarespace Inc/Squarespace 6//v6//EN
BEGIN:VEVENT
UID:5bc6b9388165f55f00b6cae3@squarespace.com
DTSTAMP:20190527T033806Z
DTSTART:20190524T003000Z
DTEND:20190630T073000Z
SUMMARY:Gerry Wedd: Kitschen Man
END:VEVENT
END:VCALENDAR
