BEGIN:VCALENDAR
VERSION:2.0
PRODID:-//Squarespace Inc/Squarespace 6//v6//EN
BEGIN:VEVENT
UID:5ca439b516e6020001b4037c@squarespace.com
DTSTAMP:20190716T055825Z
DTSTART:20190704T003000Z
DTEND:20190804T073000Z
SUMMARY:Friends of the South Australian School of Art
END:VEVENT
END:VCALENDAR
