BEGIN:VCALENDAR
VERSION:2.0
PRODID:-//Squarespace Inc/Squarespace 6//v6//EN
BEGIN:VEVENT
UID:5c3ff4497924e82bb9994c08@squarespace.com
DTSTAMP:20190117T043834Z
DTSTART:20190326T233000Z
DTEND:20190519T073000Z
SUMMARY:CBS Disability Arts Group: PLASH
END:VEVENT
END:VCALENDAR
