BEGIN:VCALENDAR
VERSION:2.0
PRODID:-//Squarespace Inc/Squarespace 6//v6//EN
BEGIN:VEVENT
UID:5c4006da758d46950ceadb76@squarespace.com
DTSTAMP:20190117T045238Z
DTSTART:20190319T233000Z
DTEND:20190505T073000Z
SUMMARY:Watiya-warnu\, Seed Dreaming
END:VEVENT
END:VCALENDAR
