BEGIN:VCALENDAR
VERSION:2.0
PRODID:-//Squarespace Inc/Squarespace 6//v6//EN
BEGIN:VEVENT
UID:5be8ffe18985835f89885783@squarespace.com
DTSTAMP:20181112T042736Z
DTSTART:20190212T233000Z
DTEND:20190317T063000Z
SUMMARY:Wendy Dixon-Whiley: Contrapasso
END:VEVENT
END:VCALENDAR
