BEGIN:VCALENDAR
VERSION:2.0
PRODID:-//Squarespace Inc/Squarespace 6//v6//EN
BEGIN:VEVENT
UID:5be901414fa51a2b58a093ec@squarespace.com
DTSTAMP:20190313T041522Z
DTSTART:20190212T233000Z
DTEND:20190324T063000Z
SUMMARY:Matthew Symons/DIDI Photos and Mariana Mezic: Joint
END:VEVENT
END:VCALENDAR
