BEGIN:VCALENDAR
VERSION:2.0
PRODID:-//Squarespace Inc/Squarespace 6//v6//EN
BEGIN:VEVENT
UID:5d9563b936e1ee4ab3cf6758@squarespace.com
DTSTAMP:20200122T035350Z
DTSTART:20191212T233000Z
DTEND:20200202T063000Z
SUMMARY:The Artist's Voice: New Works
END:VEVENT
END:VCALENDAR
