BEGIN:VCALENDAR
VERSION:2.0
PRODID:-//Squarespace Inc/Squarespace 6//v6//EN
BEGIN:VEVENT
UID:5d3e9e59242c220001d1cd3b@squarespace.com
DTSTAMP:20191105T070106Z
DTSTART:20191130T233000Z
DTEND:20200126T063000Z
SUMMARY:Adelaide Hills Landscape Arts Prize Finalist exhibition 2019
END:VEVENT
END:VCALENDAR
