BEGIN:VCALENDAR
VERSION:2.0
PRODID:-//Squarespace Inc/Squarespace 6//v6//EN
BEGIN:VEVENT
UID:5bc96a907817f79f2a874cc9@squarespace.com
DTSTAMP:20190830T033948Z
DTSTART:20191018T233000Z
DTEND:20191208T063000Z
SUMMARY:ROBYN STACEY: RAY OF LIGHT
END:VEVENT
END:VCALENDAR
