BEGIN:VCALENDAR
VERSION:2.0
PRODID:-//Squarespace Inc/Squarespace 6//v6//EN
BEGIN:VEVENT
UID:5be902484ae23793ccac4b61@squarespace.com
DTSTAMP:20190204T055632Z
DTSTART:20190116T233000Z
DTEND:20190519T073000Z
SUMMARY:Deborah Twining: When tales are long and often turn corners
END:VEVENT
END:VCALENDAR
