BEGIN:VCALENDAR
VERSION:2.0
PRODID:-//Squarespace Inc/Squarespace 6//v6//EN
BEGIN:VEVENT
UID:5ab310e5562fa79e4d5429bb@squarespace.com
DTSTAMP:20180801T012313Z
DTSTART:20180801T003000Z
DTEND:20180916T073000Z
SUMMARY:SALA: Hans Kreiner - Isthmus
END:VEVENT
END:VCALENDAR
