BEGIN:VCALENDAR
VERSION:2.0
PRODID:-//Squarespace Inc/Squarespace 6//v6//EN
BEGIN:VEVENT
UID:5b07a1c303ce647cacc0d7e2@squarespace.com
DTSTAMP:20180704T024352Z
DTSTART:20180628T003000Z
DTEND:20180729T073000Z
SUMMARY:Artist's Voice 'Wintering'
END:VEVENT
END:VCALENDAR
