BEGIN:VCALENDAR
VERSION:2.0
PRODID:-//Squarespace Inc/Squarespace 6//v6//EN
BEGIN:VEVENT
UID:5a7bd37224a694140642353d@squarespace.com
DTSTAMP:20180425T010910Z
DTSTART:20180504T003000Z
DTEND:20180527T073000Z
SUMMARY:Make History
END:VEVENT
END:VCALENDAR
