BEGIN:VCALENDAR
VERSION:2.0
PRODID:-//Squarespace Inc/Squarespace 6//v6//EN
BEGIN:VEVENT
UID:5a8f6cacec212d5ccd40be53@squarespace.com
DTSTAMP:20180531T063318Z
DTSTART:20180530T003000Z
DTEND:20180624T073000Z
SUMMARY:Ngayuku Ngura - My Country
END:VEVENT
END:VCALENDAR
