BEGIN:VCALENDAR
VERSION:2.0
PRODID:-//Squarespace Inc/Squarespace 6//v6//EN
BEGIN:VEVENT
UID:5a7bceacf9619af89470fafe@squarespace.com
DTSTAMP:20180410T071023Z
DTSTART:20180409T003000Z
DTEND:20180513T073000Z
SUMMARY:Karol Oakley Artist in resident 'Paint - Hahndorf - Heysen'
END:VEVENT
END:VCALENDAR
