BEGIN:VCALENDAR
VERSION:2.0
PRODID:-//Squarespace Inc/Squarespace 6//v6//EN
BEGIN:VEVENT
UID:5aa0adf8c83025fedf5439dc@squarespace.com
DTSTAMP:20180620T024911Z
DTSTART:20180628T003000Z
DTEND:20180729T073000Z
SUMMARY:Alison Mitchell 'STILL EVEN - STILL'
END:VEVENT
END:VCALENDAR
