BEGIN:VCALENDAR
VERSION:2.0
PRODID:-//Squarespace Inc/Squarespace 6//v6//EN
BEGIN:VEVENT
UID:59dc1da50abd045b7cc96e8d@squarespace.com
DTSTAMP:20180326T044154Z
DTSTART:20180329T233000Z
DTEND:20180429T073000Z
SUMMARY:CBS Disability Arts Group: "Eye to Eye"
END:VEVENT
END:VCALENDAR
