BEGIN:VCALENDAR
VERSION:2.0
PRODID:-//Squarespace Inc/Squarespace 6//v6//EN
BEGIN:VEVENT
UID:5a7bcf96e4966b2e6487a8ff@squarespace.com
DTSTAMP:20180326T044233Z
DTSTART:20180329T233000Z
DTEND:20180429T073000Z
SUMMARY:Bryan Tingey 'Travels of an Explorer'
END:VEVENT
END:VCALENDAR
