BEGIN:VCALENDAR
VERSION:2.0
PRODID:-//Squarespace Inc/Squarespace 6//v6//EN
BEGIN:VEVENT
UID:5ab49682562fa77d17463c3b@squarespace.com
DTSTAMP:20180323T060205Z
DTSTART:20180702T003000Z
DTEND:20180729T073000Z
SUMMARY:Irina Nazarova 'In the Garden'
END:VEVENT
END:VCALENDAR
