BEGIN:VCALENDAR
VERSION:2.0
PRODID:-//Squarespace Inc/Squarespace 6//v6//EN
BEGIN:VEVENT
UID:5a8f643671c10bed714ae8c0@squarespace.com
DTSTAMP:20180801T012410Z
DTSTART:20180801T003000Z
DTEND:20180916T073000Z
SUMMARY:SALA Beverley Southcott 'Energy Matters'
END:VEVENT
END:VCALENDAR
