BEGIN:VCALENDAR
VERSION:2.0
PRODID:-//Squarespace Inc/Squarespace 6//v6//EN
BEGIN:VEVENT
UID:5a8e2b3df9619ab663934d6f@squarespace.com
DTSTAMP:20180801T012346Z
DTSTART:20180801T003000Z
DTEND:20180916T073000Z
SUMMARY:SALA: Hugh Freytag - Places and Spaces 2018
END:VEVENT
END:VCALENDAR
