BEGIN:VCALENDAR
VERSION:2.0
PRODID:-//Squarespace Inc/Squarespace 6//v6//EN
BEGIN:VEVENT
UID:5bc6ae5515fcc0cd6830047d@squarespace.com
DTSTAMP:20181112T042118Z
DTSTART:20181213T233000Z
DTEND:20190210T063000Z
SUMMARY:Dreaming Stories
END:VEVENT
END:VCALENDAR
