BEGIN:VCALENDAR
VERSION:2.0
PRODID:-//Squarespace Inc/Squarespace 6//v6//EN
BEGIN:VEVENT
UID:5bc3ee02b208fcee0ea13e28@squarespace.com
DTSTAMP:20181213T041301Z
DTSTART:20181212T233000Z
DTEND:20190210T063000Z
SUMMARY:John Ashcroft: RENAISSANCE GOES POP
END:VEVENT
END:VCALENDAR
