BEGIN:VCALENDAR
VERSION:2.0
PRODID:-//Squarespace Inc/Squarespace 6//v6//EN
BEGIN:VEVENT
UID:5a8f6354f9619a72e89a9025@squarespace.com
DTSTAMP:20181004T010758Z
DTSTART:20181006T003000Z
DTEND:20181209T063000Z
SUMMARY:The Heysen Prize for Landscape 2018
END:VEVENT
END:VCALENDAR
